BEGIN:VCALENDAR
VERSION:2.0
PRODID:-//wp-events-plugin.com//7.2.3.1//EN
TZID:Europe/Berlin
X-WR-TIMEZONE:Europe/Berlin
BEGIN:VEVENT
UID:531@raetsche.com
DTSTART;TZID=Europe/Berlin:20261114T200000
DTEND;TZID=Europe/Berlin:20261114T223000
DTSTAMP:20260321T165020Z
URL:https://raetsche.com/programm/7634/
SUMMARY:Lucy van Kuhl
DESCRIPTION:Wir leben in einer Zeit\, in der oft die Verpackung wichtiger a
 ls der Inhalt scheint: Jeder einfache Schokoriegel wird durch Werbung zum 
 exklusiven Geschmacksevent\, der Hausmeister bekommt statt einer Lohnerhö
 hung exklusiv den Titel Facility Manager und die Liebe hüpft nicht mehr w
 ie früher mit Amors zufälligem Pfeil\, sondern maßgeschneidert und algo
 rithmenbasiert über Tinder und Parship in unser Leben ... 
ATTACH;FMTTYPE=image/jpeg:https://raetsche.com/wp-content/uploads/2026/02/
 20261114.webp
CATEGORIES:Musikkabarett
LOCATION:Rätschenmühle e.V.\, Schlachthausstraße 22\, Geislingen an der 
 Steige\, 73312\, Deutschland
GEO:48.627529;9.825723
X-APPLE-STRUCTURED-LOCATION;VALUE=URI;X-ADDRESS=Schlachthausstraße 22\, Ge
 islingen an der Steige\, 73312\, Deutschland;X-APPLE-RADIUS=100;X-TITLE=R
 ätschenmühle e.V.:geo:48.627529,9.825723
END:VEVENT
BEGIN:VTIMEZONE
TZID:Europe/Berlin
X-LIC-LOCATION:Europe/Berlin
BEGIN:STANDARD
DTSTART:20261025T020000
TZOFFSETFROM:+0200
TZOFFSETTO:+0100
TZNAME:CET
END:STANDARD
END:VTIMEZONE
END:VCALENDAR