BEGIN:VCALENDAR
VERSION:2.0
PRODID:-//wp-events-plugin.com//7.2.3.1//EN
TZID:Europe/Berlin
X-WR-TIMEZONE:Europe/Berlin
BEGIN:VEVENT
UID:450@raetsche.com
DTSTART;TZID=Europe/Berlin:20260521T200000
DTEND;TZID=Europe/Berlin:20260521T220000
DTSTAMP:20250817T084605Z
URL:https://raetsche.com/programm/jazzopen-26/
SUMMARY:JazzOpen
DESCRIPTION:Jamsession mit dem Martin Rosengarten Trio featuring Martina Br
 andl und wechselnden Gästen.  Spontane Mitmusiker*innen sind herzlich wil
 lkommen.
ATTACH;FMTTYPE=image/jpeg:https://raetsche.com/wp-content/uploads/2023/05/
 jazzopen.jpg
CATEGORIES:Jazz@Night
LOCATION:Rätschenmühle e.V.\, Schlachthausstraße 22\, Geislingen an der 
 Steige\, 73312\, Deutschland
GEO:48.627529;9.825723
X-APPLE-STRUCTURED-LOCATION;VALUE=URI;X-ADDRESS=Schlachthausstraße 22\, Ge
 islingen an der Steige\, 73312\, Deutschland;X-APPLE-RADIUS=100;X-TITLE=R
 ätschenmühle e.V.:geo:48.627529,9.825723
END:VEVENT
BEGIN:VTIMEZONE
TZID:Europe/Berlin
X-LIC-LOCATION:Europe/Berlin
BEGIN:DAYLIGHT
DTSTART:20260329T030000
TZOFFSETFROM:+0100
TZOFFSETTO:+0200
TZNAME:CEST
END:DAYLIGHT
END:VTIMEZONE
END:VCALENDAR