BEGIN:VCALENDAR
VERSION:2.0
PRODID:-//wp-events-plugin.com//7.2.3.1//EN
TZID:Europe/Berlin
X-WR-TIMEZONE:Europe/Berlin
BEGIN:VEVENT
UID:448@raetsche.com
DTSTART;TZID=Europe/Berlin:20260508T210000
DTEND;TZID=Europe/Berlin:20260508T234500
DTSTAMP:20250817T084302Z
URL:https://raetsche.com/programm/tanzraum-22-mit-dj-micha-dj-hp-8/
SUMMARY:TanzRaum 22 mit DJ Micha & DJ HP
DESCRIPTION:Die Kryptonite-DJs Micha und HP sind bekannt für ihren tanzbar
 en und treibenden Mix aus aktuellen Tracks\, guten Klassikern\, Pop und Ro
 ck\, Disco und Soul.
ATTACH;FMTTYPE=image/jpeg:https://raetsche.com/wp-content/uploads/2023/05/
 tansraum.jpg
CATEGORIES:Disco
LOCATION:Rätschenmühle e.V.\, Schlachthausstraße 22\, Geislingen an der 
 Steige\, 73312\, Deutschland
GEO:48.627529;9.825723
X-APPLE-STRUCTURED-LOCATION;VALUE=URI;X-ADDRESS=Schlachthausstraße 22\, Ge
 islingen an der Steige\, 73312\, Deutschland;X-APPLE-RADIUS=100;X-TITLE=R
 ätschenmühle e.V.:geo:48.627529,9.825723
END:VEVENT
BEGIN:VTIMEZONE
TZID:Europe/Berlin
X-LIC-LOCATION:Europe/Berlin
BEGIN:DAYLIGHT
DTSTART:20260329T030000
TZOFFSETFROM:+0100
TZOFFSETTO:+0200
TZNAME:CEST
END:DAYLIGHT
END:VTIMEZONE
END:VCALENDAR