BEGIN:VCALENDAR
VERSION:2.0
PRODID:-//wp-events-plugin.com//7.2.3.1//EN
TZID:Europe/Berlin
X-WR-TIMEZONE:Europe/Berlin
BEGIN:VEVENT
UID:515@raetsche.com
DTSTART;TZID=Europe/Berlin:20260426T150000
DTEND;TZID=Europe/Berlin:20260426T170000
DTSTAMP:20260121T150940Z
URL:https://raetsche.com/programm/theater-inklusiv-ludwigsburg-e-v/
SUMMARY:Theater Inklusiv Ludwigsburg e.V.
DESCRIPTION:Erbse und Bohne arbeiten bei der Stadtreinigung. Sie kümmern s
 ich um die Dinge\, die achtlos im Müll landen. Was sie da alles finden! D
 inge\, mit denen sie ihre Spielleidenschaft nähren! 
ATTACH;FMTTYPE=image/jpeg:https://raetsche.com/wp-content/uploads/2026/01/
 20260426.webp
CATEGORIES:Familienveranstaltung
LOCATION:Rätschenmühle e.V.\, Schlachthausstraße 22\, Geislingen an der 
 Steige\, 73312\, Deutschland
GEO:48.627529;9.825723
X-APPLE-STRUCTURED-LOCATION;VALUE=URI;X-ADDRESS=Schlachthausstraße 22\, Ge
 islingen an der Steige\, 73312\, Deutschland;X-APPLE-RADIUS=100;X-TITLE=R
 ätschenmühle e.V.:geo:48.627529,9.825723
END:VEVENT
BEGIN:VTIMEZONE
TZID:Europe/Berlin
X-LIC-LOCATION:Europe/Berlin
BEGIN:DAYLIGHT
DTSTART:20260329T030000
TZOFFSETFROM:+0100
TZOFFSETTO:+0200
TZNAME:CEST
END:DAYLIGHT
END:VTIMEZONE
END:VCALENDAR