BEGIN:VCALENDAR
VERSION:2.0
PRODID:-//wp-events-plugin.com//7.2.3.1//EN
TZID:Europe/Berlin
X-WR-TIMEZONE:Europe/Berlin
BEGIN:VEVENT
UID:419@raetsche.com
DTSTART;TZID=Europe/Berlin:20261114T123000
DTEND;TZID=Europe/Berlin:20261114T151500
DTSTAMP:20260418T072512Z
URL:https://raetsche.com/programm/warentauschtag-3/
SUMMARY:Warentauschtag
DESCRIPTION:Zum diesjährigen Warentauschtag lädt die Initiative “Weitbl
 ick - Nachhaltig in Geislingen” in die RÄTSCHE ein.\n
ATTACH;FMTTYPE=image/jpeg:https://raetsche.com/wp-content/uploads/2025/07/
 20251122-wtt.webp
CATEGORIES:Markt
LOCATION:Rätschenmühle e.V.\, Schlachthausstraße 22\, Geislingen an der 
 Steige\, 73312\, Deutschland
GEO:48.627529;9.825723
X-APPLE-STRUCTURED-LOCATION;VALUE=URI;X-ADDRESS=Schlachthausstraße 22\, Ge
 islingen an der Steige\, 73312\, Deutschland;X-APPLE-RADIUS=100;X-TITLE=R
 ätschenmühle e.V.:geo:48.627529,9.825723
END:VEVENT
BEGIN:VTIMEZONE
TZID:Europe/Berlin
X-LIC-LOCATION:Europe/Berlin
BEGIN:STANDARD
DTSTART:20261025T020000
TZOFFSETFROM:+0200
TZOFFSETTO:+0100
TZNAME:CET
END:STANDARD
END:VTIMEZONE
END:VCALENDAR